BEGIN:VCALENDAR
VERSION:2.0
PRODID:-//crossroadsatparkplace.org//NONSGML kigkonsult.se iCalcreator 2.30
 .10//
CALSCALE:GREGORIAN
METHOD:PUBLISH
UID:c295a239-ec25-4b21-9e85-f87bc05b2788
X-WR-CALDESC:
X-WR-RELCALID:27104375d125b6a1ef5583933438e0ee
X-WR-TIMEZONE:America/Chicago
BEGIN:VTIMEZONE
TZID:America/Chicago
BEGIN:STANDARD
TZNAME:CST
DTSTART:20211107T020000
TZOFFSETFROM:-0500
TZOFFSETTO:-0600
RDATE:20221106T020000
END:STANDARD
BEGIN:DAYLIGHT
TZNAME:CDT
DTSTART:20210314T020000
TZOFFSETFROM:-0600
TZOFFSETTO:-0500
RDATE:20220313T020000
RDATE:20230312T020000
END:DAYLIGHT
END:VTIMEZONE
BEGIN:VEVENT
UID:1f9338b8-7681-4fc4-8a03-1e80ac0726d3
DTSTAMP:20260425T133959Z
DESCRIPTION:
DTSTART;TZID=America/Chicago:20211103T100000
DTEND;TZID=America/Chicago:20211103T120000
LOCATION:
SUMMARY:Community Food Fair
END:VEVENT
END:VCALENDAR
