BEGIN:VCALENDAR
VERSION:2.0
PRODID:-//crossroadsatparkplace.org//NONSGML kigkonsult.se iCalcreator 2.30
 .10//
CALSCALE:GREGORIAN
METHOD:PUBLISH
UID:8482b2a9-f420-4128-a3bb-d1324a27e353
X-WR-CALDESC:
X-WR-RELCALID:99c3104639294bd621c75270479ef195
X-WR-TIMEZONE:America/Chicago
BEGIN:VTIMEZONE
TZID:America/Chicago
BEGIN:STANDARD
TZNAME:CST
DTSTART:20211107T020000
TZOFFSETFROM:-0500
TZOFFSETTO:-0600
RDATE:20221106T020000
END:STANDARD
BEGIN:DAYLIGHT
TZNAME:CDT
DTSTART:20210314T020000
TZOFFSETFROM:-0600
TZOFFSETTO:-0500
RDATE:20220313T020000
RDATE:20230312T020000
END:DAYLIGHT
END:VTIMEZONE
BEGIN:VEVENT
UID:7d41126d-fd29-44be-ad5d-18bbd2492ad1
DTSTAMP:20260425T134049Z
DESCRIPTION:
DTSTART;TZID=America/Chicago:20211110T100000
DTEND;TZID=America/Chicago:20211110T120000
LOCATION:
SUMMARY:Community Food Fair
END:VEVENT
END:VCALENDAR
