BEGIN:VCALENDAR
VERSION:2.0
PRODID:-//crossroadsatparkplace.org//NONSGML kigkonsult.se iCalcreator 2.30
 .10//
CALSCALE:GREGORIAN
METHOD:PUBLISH
UID:d6a00042-0b0a-4433-93ee-5a79483786bc
X-WR-CALDESC:
X-WR-RELCALID:7212e3db9cfc7d388425c82f001fae7c
X-WR-TIMEZONE:America/Chicago
BEGIN:VTIMEZONE
TZID:America/Chicago
BEGIN:STANDARD
TZNAME:CST
DTSTART:20211107T020000
TZOFFSETFROM:-0500
TZOFFSETTO:-0600
RDATE:20221106T020000
END:STANDARD
BEGIN:DAYLIGHT
TZNAME:CDT
DTSTART:20210314T020000
TZOFFSETFROM:-0600
TZOFFSETTO:-0500
RDATE:20220313T020000
RDATE:20230312T020000
END:DAYLIGHT
END:VTIMEZONE
BEGIN:VEVENT
UID:fe41525c-0483-4d18-887b-5e0b15267cf2
DTSTAMP:20260425T133935Z
DESCRIPTION:
DTSTART;TZID=America/Chicago:20211117T100000
DTEND;TZID=America/Chicago:20211117T120000
LOCATION:
SUMMARY:Community Food Fair
END:VEVENT
END:VCALENDAR
