BEGIN:VCALENDAR
VERSION:2.0
PRODID:-//crossroadsatparkplace.org//NONSGML kigkonsult.se iCalcreator 2.30
 .10//
CALSCALE:GREGORIAN
METHOD:PUBLISH
UID:f2ebc5d8-2c02-4f83-ad16-41d339b80f69
X-WR-CALDESC:
X-WR-RELCALID:c0d8658fe2e14217fbb1c3597c66233c
X-WR-TIMEZONE:America/Chicago
BEGIN:VTIMEZONE
TZID:America/Chicago
BEGIN:STANDARD
TZNAME:CST
DTSTART:20211107T020000
TZOFFSETFROM:-0500
TZOFFSETTO:-0600
RDATE:20221106T020000
END:STANDARD
BEGIN:DAYLIGHT
TZNAME:CDT
DTSTART:20210314T020000
TZOFFSETFROM:-0600
TZOFFSETTO:-0500
RDATE:20220313T020000
RDATE:20230312T020000
END:DAYLIGHT
END:VTIMEZONE
BEGIN:VEVENT
UID:0fe7e856-e912-4b42-9808-b1d29fe3f008
DTSTAMP:20260425T133430Z
DESCRIPTION:
DTSTART;TZID=America/Chicago:20211120T130000
DTEND;TZID=America/Chicago:20211120T160000
LOCATION:
SUMMARY:Thanksgiving Community Dinner
END:VEVENT
END:VCALENDAR
