BEGIN:VCALENDAR
VERSION:2.0
PRODID:-//crossroadsatparkplace.org//NONSGML kigkonsult.se iCalcreator 2.30
 .10//
CALSCALE:GREGORIAN
METHOD:PUBLISH
UID:1dd332b2-f0e7-4418-b9ea-7def211248ef
X-WR-CALDESC:
X-WR-RELCALID:f28894e528f19e4d07f22914e246ddf4
X-WR-TIMEZONE:America/Chicago
BEGIN:VTIMEZONE
TZID:America/Chicago
BEGIN:STANDARD
TZNAME:CST
DTSTART:20211107T020000
TZOFFSETFROM:-0500
TZOFFSETTO:-0600
RDATE:20221106T020000
END:STANDARD
BEGIN:DAYLIGHT
TZNAME:CDT
DTSTART:20210314T020000
TZOFFSETFROM:-0600
TZOFFSETTO:-0500
RDATE:20220313T020000
RDATE:20230312T020000
END:DAYLIGHT
END:VTIMEZONE
BEGIN:VEVENT
UID:59b81192-5ce6-4f4e-afc1-d109f26180cf
DTSTAMP:20260425T134109Z
DESCRIPTION:
DTSTART;TZID=America/Chicago:20211124T100000
DTEND;TZID=America/Chicago:20211124T120000
LOCATION:
SUMMARY:Community Food Fair
END:VEVENT
END:VCALENDAR
