BEGIN:VCALENDAR
VERSION:2.0
PRODID:-//crossroadsatparkplace.org//NONSGML kigkonsult.se iCalcreator 2.30
 .10//
CALSCALE:GREGORIAN
METHOD:PUBLISH
UID:793f2bbe-fad8-4b85-bdb8-d5490c10191d
X-WR-CALDESC:
X-WR-RELCALID:fd876b5875423185a1dee21499628576
X-WR-TIMEZONE:America/Chicago
BEGIN:VTIMEZONE
TZID:America/Chicago
BEGIN:STANDARD
TZNAME:CST
DTSTART:20211107T020000
TZOFFSETFROM:-0500
TZOFFSETTO:-0600
RDATE:20221106T020000
END:STANDARD
BEGIN:DAYLIGHT
TZNAME:CDT
DTSTART:20210314T020000
TZOFFSETFROM:-0600
TZOFFSETTO:-0500
RDATE:20220313T020000
RDATE:20230312T020000
END:DAYLIGHT
END:VTIMEZONE
BEGIN:VEVENT
UID:97d0a1a6-8834-455a-b45c-0fb9cc8adaf2
DTSTAMP:20260425T120819Z
DESCRIPTION:
DTSTART;TZID=America/Chicago:20211222T100000
DTEND;TZID=America/Chicago:20211222T120000
LOCATION:
SUMMARY:Community Food Fair
END:VEVENT
END:VCALENDAR
