BEGIN:VCALENDAR
VERSION:2.0
PRODID:-//crossroadsatparkplace.org//NONSGML kigkonsult.se iCalcreator 2.30
 .10//
CALSCALE:GREGORIAN
METHOD:PUBLISH
UID:24e8c7f1-7570-4566-8b55-bf88176d7000
X-WR-CALDESC:
X-WR-RELCALID:771a620971eb09b827642c7f03a33e0b
X-WR-TIMEZONE:America/Chicago
BEGIN:VTIMEZONE
TZID:America/Chicago
BEGIN:STANDARD
TZNAME:CST
DTSTART:20211107T020000
TZOFFSETFROM:-0500
TZOFFSETTO:-0600
RDATE:20221106T020000
END:STANDARD
BEGIN:DAYLIGHT
TZNAME:CDT
DTSTART:20210314T020000
TZOFFSETFROM:-0600
TZOFFSETTO:-0500
RDATE:20220313T020000
RDATE:20230312T020000
END:DAYLIGHT
END:VTIMEZONE
BEGIN:VEVENT
UID:265b584d-233f-4ae2-9a6a-f25ffba2e4f5
DTSTAMP:20260425T120704Z
DESCRIPTION:
DTSTART;TZID=America/Chicago:20211229T100000
DTEND;TZID=America/Chicago:20211229T120000
LOCATION:
SUMMARY:Community Food Fair
END:VEVENT
END:VCALENDAR
