BEGIN:VCALENDAR
VERSION:2.0
PRODID:-//crossroadsatparkplace.org//NONSGML kigkonsult.se iCalcreator 2.30
 .10//
CALSCALE:GREGORIAN
METHOD:PUBLISH
UID:f468c9b7-b990-4212-8786-d2a687b1a88a
X-WR-CALDESC:
X-WR-RELCALID:182715c169d629f16cfa5a359ff92a01
X-WR-TIMEZONE:America/Chicago
BEGIN:VTIMEZONE
TZID:America/Chicago
BEGIN:STANDARD
TZNAME:CST
DTSTART:20211107T020000
TZOFFSETFROM:-0500
TZOFFSETTO:-0600
RDATE:20221106T020000
END:STANDARD
BEGIN:DAYLIGHT
TZNAME:CDT
DTSTART:20210314T020000
TZOFFSETFROM:-0600
TZOFFSETTO:-0500
RDATE:20220313T020000
RDATE:20230312T020000
END:DAYLIGHT
END:VTIMEZONE
BEGIN:VEVENT
UID:11f6a323-3f10-4708-bcee-a7653eee7587
DTSTAMP:20260425T104106Z
DESCRIPTION:
DTSTART;TZID=America/Chicago:20220119T100000
DTEND;TZID=America/Chicago:20220119T120000
LOCATION:
SUMMARY:Community Food Fair
END:VEVENT
END:VCALENDAR
