BEGIN:VCALENDAR
VERSION:2.0
PRODID:-//crossroadsatparkplace.org//NONSGML kigkonsult.se iCalcreator 2.30
 .10//
CALSCALE:GREGORIAN
METHOD:PUBLISH
UID:21ddf4ff-d046-45e1-abd4-b40da948e7f7
X-WR-CALDESC:
X-WR-RELCALID:04919e78978687fcb4cedd568a668a59
X-WR-TIMEZONE:America/Chicago
BEGIN:VTIMEZONE
TZID:America/Chicago
BEGIN:STANDARD
TZNAME:CST
DTSTART:20211107T020000
TZOFFSETFROM:-0500
TZOFFSETTO:-0600
RDATE:20221106T020000
END:STANDARD
BEGIN:DAYLIGHT
TZNAME:CDT
DTSTART:20210314T020000
TZOFFSETFROM:-0600
TZOFFSETTO:-0500
RDATE:20220313T020000
RDATE:20230312T020000
END:DAYLIGHT
END:VTIMEZONE
BEGIN:VEVENT
UID:990073ba-8a4d-4cc5-a108-04bfb0c881d0
DTSTAMP:20260425T104156Z
DESCRIPTION:
DTSTART;TZID=America/Chicago:20220126T100000
DTEND;TZID=America/Chicago:20220126T120000
LOCATION:
SUMMARY:Community Food Fair
END:VEVENT
END:VCALENDAR
