BEGIN:VCALENDAR
VERSION:2.0
PRODID:-//crossroadsatparkplace.org//NONSGML kigkonsult.se iCalcreator 2.30
 .10//
CALSCALE:GREGORIAN
METHOD:PUBLISH
UID:11c2bc2b-ec22-4a7a-b905-772def3548bc
X-WR-CALDESC:
X-WR-RELCALID:5f0e916e66c0ce5602f725ea698825a4
X-WR-TIMEZONE:America/Chicago
BEGIN:VTIMEZONE
TZID:America/Chicago
BEGIN:STANDARD
TZNAME:CST
DTSTART:20211107T020000
TZOFFSETFROM:-0500
TZOFFSETTO:-0600
RDATE:20221106T020000
RDATE:20231105T020000
END:STANDARD
BEGIN:DAYLIGHT
TZNAME:CDT
DTSTART:20220313T020000
TZOFFSETFROM:-0600
TZOFFSETTO:-0500
RDATE:20230312T020000
END:DAYLIGHT
END:VTIMEZONE
BEGIN:VEVENT
UID:c1dad063-2807-484a-b3a8-54417efd49c1
DTSTAMP:20260425T033013Z
DESCRIPTION:
DTSTART;TZID=America/Chicago:20220601T100000
DTEND;TZID=America/Chicago:20220601T120000
LOCATION:
SUMMARY:Community Food Fair
END:VEVENT
END:VCALENDAR
