BEGIN:VCALENDAR
VERSION:2.0
PRODID:-//crossroadsatparkplace.org//NONSGML kigkonsult.se iCalcreator 2.30
 .10//
CALSCALE:GREGORIAN
METHOD:PUBLISH
UID:de32513f-47a4-4d01-88e5-286b34593b62
X-WR-CALDESC:
X-WR-RELCALID:5419574986578a8fe9070813e685f8a1
X-WR-TIMEZONE:America/Chicago
BEGIN:VTIMEZONE
TZID:America/Chicago
BEGIN:STANDARD
TZNAME:CST
DTSTART:20211107T020000
TZOFFSETFROM:-0500
TZOFFSETTO:-0600
RDATE:20221106T020000
RDATE:20231105T020000
END:STANDARD
BEGIN:DAYLIGHT
TZNAME:CDT
DTSTART:20220313T020000
TZOFFSETFROM:-0600
TZOFFSETTO:-0500
RDATE:20230312T020000
END:DAYLIGHT
END:VTIMEZONE
BEGIN:VEVENT
UID:b3a111af-4d7d-44ba-a00b-a5ce0e5907a3
DTSTAMP:20260425T034400Z
DESCRIPTION:
DTSTART;TZID=America/Chicago:20220608T100000
DTEND;TZID=America/Chicago:20220608T120000
LOCATION:
SUMMARY:Community Food Fair
END:VEVENT
END:VCALENDAR
