BEGIN:VCALENDAR
VERSION:2.0
PRODID:-//crossroadsatparkplace.org//NONSGML kigkonsult.se iCalcreator 2.30
 .10//
CALSCALE:GREGORIAN
METHOD:PUBLISH
UID:7333cb6f-7408-455a-916d-6d0546ec0792
X-WR-CALDESC:
X-WR-RELCALID:59abba3fa7cded8c26875c916b2a8fdb
X-WR-TIMEZONE:America/Chicago
BEGIN:VTIMEZONE
TZID:America/Chicago
BEGIN:STANDARD
TZNAME:CST
DTSTART:20211107T020000
TZOFFSETFROM:-0500
TZOFFSETTO:-0600
RDATE:20221106T020000
RDATE:20231105T020000
END:STANDARD
BEGIN:DAYLIGHT
TZNAME:CDT
DTSTART:20220313T020000
TZOFFSETFROM:-0600
TZOFFSETTO:-0500
RDATE:20230312T020000
END:DAYLIGHT
END:VTIMEZONE
BEGIN:VEVENT
UID:1d0f006a-bd61-477e-94a4-f073098cc705
DTSTAMP:20260425T032603Z
DESCRIPTION:
DTSTART;TZID=America/Chicago:20220622T100000
DTEND;TZID=America/Chicago:20220622T120000
LOCATION:
SUMMARY:Community Food Fair
END:VEVENT
END:VCALENDAR
