BEGIN:VCALENDAR
VERSION:2.0
PRODID:-//crossroadsatparkplace.org//NONSGML kigkonsult.se iCalcreator 2.30
 .10//
CALSCALE:GREGORIAN
METHOD:PUBLISH
UID:85662dbf-f796-4cdd-9c97-b0a57336514c
X-WR-CALDESC:
X-WR-RELCALID:5a6709311c52495fa26053f098713467
X-WR-TIMEZONE:America/Chicago
BEGIN:VTIMEZONE
TZID:America/Chicago
BEGIN:STANDARD
TZNAME:CST
DTSTART:20211107T020000
TZOFFSETFROM:-0500
TZOFFSETTO:-0600
RDATE:20221106T020000
RDATE:20231105T020000
END:STANDARD
BEGIN:DAYLIGHT
TZNAME:CDT
DTSTART:20220313T020000
TZOFFSETFROM:-0600
TZOFFSETTO:-0500
RDATE:20230312T020000
END:DAYLIGHT
END:VTIMEZONE
BEGIN:VEVENT
UID:1df58321-6972-4cc2-8abc-2120302603b5
DTSTAMP:20260425T032725Z
DESCRIPTION:
DTSTART;TZID=America/Chicago:20220629T100000
DTEND;TZID=America/Chicago:20220629T120000
LOCATION:
SUMMARY:Community Food Fair
END:VEVENT
END:VCALENDAR
