BEGIN:VCALENDAR
VERSION:2.0
PRODID:-//crossroadsatparkplace.org//NONSGML kigkonsult.se iCalcreator 2.30
 .10//
CALSCALE:GREGORIAN
METHOD:PUBLISH
UID:9df8386c-9f21-45e2-8a5f-7ac13e23d8a5
X-WR-CALDESC:
X-WR-RELCALID:02c7131285b2eec45c46c717a28b2cbd
X-WR-TIMEZONE:America/Chicago
BEGIN:VTIMEZONE
TZID:America/Chicago
BEGIN:STANDARD
TZNAME:CST
DTSTART:20211107T020000
TZOFFSETFROM:-0500
TZOFFSETTO:-0600
RDATE:20221106T020000
RDATE:20231105T020000
END:STANDARD
BEGIN:DAYLIGHT
TZNAME:CDT
DTSTART:20220313T020000
TZOFFSETFROM:-0600
TZOFFSETTO:-0500
RDATE:20230312T020000
END:DAYLIGHT
END:VTIMEZONE
BEGIN:VEVENT
UID:7ea79a2f-8cff-4e97-beb6-de2e3854b108
DTSTAMP:20260425T022028Z
DESCRIPTION:
DTSTART;TZID=America/Chicago:20220713T100000
DTEND;TZID=America/Chicago:20220713T120000
LOCATION:
SUMMARY:Community Food Fair
END:VEVENT
END:VCALENDAR
