BEGIN:VCALENDAR
VERSION:2.0
PRODID:-//crossroadsatparkplace.org//NONSGML kigkonsult.se iCalcreator 2.30
 .10//
CALSCALE:GREGORIAN
METHOD:PUBLISH
UID:e25c16e9-9fc0-4005-b635-557ebb98b6ce
X-WR-CALDESC:
X-WR-RELCALID:e06396f0be42bb2833407855b3c4797b
X-WR-TIMEZONE:America/Chicago
BEGIN:VTIMEZONE
TZID:America/Chicago
BEGIN:STANDARD
TZNAME:CST
DTSTART:20211107T020000
TZOFFSETFROM:-0500
TZOFFSETTO:-0600
RDATE:20221106T020000
RDATE:20231105T020000
END:STANDARD
BEGIN:DAYLIGHT
TZNAME:CDT
DTSTART:20220313T020000
TZOFFSETFROM:-0600
TZOFFSETTO:-0500
RDATE:20230312T020000
END:DAYLIGHT
END:VTIMEZONE
BEGIN:VEVENT
UID:52eeee5a-8e80-493f-b1a1-da5bef67bb53
DTSTAMP:20260425T021422Z
DESCRIPTION:
DTSTART;TZID=America/Chicago:20220727T100000
DTEND;TZID=America/Chicago:20220727T120000
LOCATION:
SUMMARY:Community Food Fair
END:VEVENT
END:VCALENDAR
