BEGIN:VCALENDAR
VERSION:2.0
PRODID:-//crossroadsatparkplace.org//NONSGML kigkonsult.se iCalcreator 2.30
 .10//
CALSCALE:GREGORIAN
METHOD:PUBLISH
UID:d2a915e8-6cad-4405-baab-61846a3280d0
X-WR-CALDESC:
X-WR-RELCALID:d28cb2b0b5aeca07e494f8f72a8ba872
X-WR-TIMEZONE:America/Chicago
BEGIN:VTIMEZONE
TZID:America/Chicago
BEGIN:STANDARD
TZNAME:CST
DTSTART:20211107T020000
TZOFFSETFROM:-0500
TZOFFSETTO:-0600
RDATE:20221106T020000
RDATE:20231105T020000
END:STANDARD
BEGIN:DAYLIGHT
TZNAME:CDT
DTSTART:20220313T020000
TZOFFSETFROM:-0600
TZOFFSETTO:-0500
RDATE:20230312T020000
END:DAYLIGHT
END:VTIMEZONE
BEGIN:VEVENT
UID:dea66454-6a9c-4c50-a64d-2e968325d1e1
DTSTAMP:20260425T010409Z
DESCRIPTION:
DTSTART;TZID=America/Chicago:20220803T100000
DTEND;TZID=America/Chicago:20220803T120000
LOCATION:
SUMMARY:Community Food Fair
END:VEVENT
END:VCALENDAR
