BEGIN:VCALENDAR
VERSION:2.0
PRODID:-//crossroadsatparkplace.org//NONSGML kigkonsult.se iCalcreator 2.30
 .10//
CALSCALE:GREGORIAN
METHOD:PUBLISH
UID:42728118-bd97-448c-9016-eb38e8debe41
X-WR-CALDESC:
X-WR-RELCALID:b9fd5edda364c46de0628ba9511c1a3f
X-WR-TIMEZONE:America/Chicago
BEGIN:VTIMEZONE
TZID:America/Chicago
BEGIN:STANDARD
TZNAME:CST
DTSTART:20211107T020000
TZOFFSETFROM:-0500
TZOFFSETTO:-0600
RDATE:20221106T020000
RDATE:20231105T020000
END:STANDARD
BEGIN:DAYLIGHT
TZNAME:CDT
DTSTART:20220313T020000
TZOFFSETFROM:-0600
TZOFFSETTO:-0500
RDATE:20230312T020000
END:DAYLIGHT
END:VTIMEZONE
BEGIN:VEVENT
UID:4284bcad-861f-402e-9779-e696612dd06b
DTSTAMP:20260425T010331Z
DESCRIPTION:
DTSTART;TZID=America/Chicago:20220817T100000
DTEND;TZID=America/Chicago:20220817T120000
LOCATION:
SUMMARY:Community Food Fair
END:VEVENT
END:VCALENDAR
