BEGIN:VCALENDAR
VERSION:2.0
PRODID:-//crossroadsatparkplace.org//NONSGML kigkonsult.se iCalcreator 2.30
 .10//
CALSCALE:GREGORIAN
METHOD:PUBLISH
UID:eac6f7b3-d6a2-409d-a381-078f37ecb489
X-WR-CALDESC:
X-WR-RELCALID:fff4c8b2a33e493f82bbf82db5eb0cc5
X-WR-TIMEZONE:America/Chicago
BEGIN:VTIMEZONE
TZID:America/Chicago
BEGIN:STANDARD
TZNAME:CST
DTSTART:20211107T020000
TZOFFSETFROM:-0500
TZOFFSETTO:-0600
RDATE:20221106T020000
RDATE:20231105T020000
END:STANDARD
BEGIN:DAYLIGHT
TZNAME:CDT
DTSTART:20220313T020000
TZOFFSETFROM:-0600
TZOFFSETTO:-0500
RDATE:20230312T020000
END:DAYLIGHT
END:VTIMEZONE
BEGIN:VEVENT
UID:a09b8023-250c-4de1-a4de-c20f8dad9659
DTSTAMP:20260425T010610Z
DESCRIPTION:
DTSTART;TZID=America/Chicago:20220824T100000
DTEND;TZID=America/Chicago:20220824T120000
LOCATION:
SUMMARY:Community Food Fair
END:VEVENT
END:VCALENDAR
