BEGIN:VCALENDAR
VERSION:2.0
PRODID:-//crossroadsatparkplace.org//NONSGML kigkonsult.se iCalcreator 2.30
 .10//
CALSCALE:GREGORIAN
METHOD:PUBLISH
UID:89e0c0ea-23a7-4d09-a75d-e128422f6330
X-WR-CALDESC:
X-WR-RELCALID:66888e5ae26f84df09f77da3b5c2aa0c
X-WR-TIMEZONE:America/Chicago
BEGIN:VTIMEZONE
TZID:America/Chicago
BEGIN:STANDARD
TZNAME:CST
DTSTART:20211107T020000
TZOFFSETFROM:-0500
TZOFFSETTO:-0600
RDATE:20221106T020000
RDATE:20231105T020000
END:STANDARD
BEGIN:DAYLIGHT
TZNAME:CDT
DTSTART:20220313T020000
TZOFFSETFROM:-0600
TZOFFSETTO:-0500
RDATE:20230312T020000
END:DAYLIGHT
END:VTIMEZONE
BEGIN:VEVENT
UID:a7eae134-81fb-4f50-9846-a6ede08c06c0
DTSTAMP:20260425T010559Z
DESCRIPTION:
DTSTART;TZID=America/Chicago:20220831T100000
DTEND;TZID=America/Chicago:20220831T120000
LOCATION:
SUMMARY:Community Food Fair
END:VEVENT
END:VCALENDAR
