BEGIN:VCALENDAR
VERSION:2.0
PRODID:-//crossroadsatparkplace.org//NONSGML kigkonsult.se iCalcreator 2.30
 .10//
CALSCALE:GREGORIAN
METHOD:PUBLISH
UID:5d2f14d7-b96e-42e4-9b83-3981fba22d1b
X-WR-CALDESC:
X-WR-RELCALID:b7f1c721dfe23cd3f6df8a278b4ab408
X-WR-TIMEZONE:America/Chicago
BEGIN:VTIMEZONE
TZID:America/Chicago
BEGIN:STANDARD
TZNAME:CST
DTSTART:20211107T020000
TZOFFSETFROM:-0500
TZOFFSETTO:-0600
RDATE:20221106T020000
RDATE:20231105T020000
END:STANDARD
BEGIN:DAYLIGHT
TZNAME:CDT
DTSTART:20220313T020000
TZOFFSETFROM:-0600
TZOFFSETTO:-0500
RDATE:20230312T020000
END:DAYLIGHT
END:VTIMEZONE
BEGIN:VEVENT
UID:f0c0e0d0-c201-4f64-ad55-aba2e01ea5d2
DTSTAMP:20260424T233849Z
DESCRIPTION:
DTSTART;TZID=America/Chicago:20220907T100000
DTEND;TZID=America/Chicago:20220907T120000
LOCATION:
SUMMARY:Community Food Fair
END:VEVENT
END:VCALENDAR
