BEGIN:VCALENDAR
VERSION:2.0
PRODID:-//crossroadsatparkplace.org//NONSGML kigkonsult.se iCalcreator 2.30
 .10//
CALSCALE:GREGORIAN
METHOD:PUBLISH
UID:ddb72fa2-6656-4c59-b0d4-677cefffdd22
X-WR-CALDESC:
X-WR-RELCALID:45852eeb67c8d38991c58d774fea17c0
X-WR-TIMEZONE:America/Chicago
BEGIN:VTIMEZONE
TZID:America/Chicago
BEGIN:STANDARD
TZNAME:CST
DTSTART:20211107T020000
TZOFFSETFROM:-0500
TZOFFSETTO:-0600
RDATE:20221106T020000
RDATE:20231105T020000
END:STANDARD
BEGIN:DAYLIGHT
TZNAME:CDT
DTSTART:20220313T020000
TZOFFSETFROM:-0600
TZOFFSETTO:-0500
RDATE:20230312T020000
RDATE:20240310T020000
END:DAYLIGHT
END:VTIMEZONE
BEGIN:VEVENT
UID:bb79ade6-b699-4f21-ace9-6b387dd6af4e
DTSTAMP:20260424T232603Z
DESCRIPTION:
DTSTART;TZID=America/Chicago:20220914T100000
DTEND;TZID=America/Chicago:20220914T120000
LOCATION:
SUMMARY:Community Food Fair
END:VEVENT
END:VCALENDAR
