BEGIN:VCALENDAR
VERSION:2.0
PRODID:-//crossroadsatparkplace.org//NONSGML kigkonsult.se iCalcreator 2.30
 .10//
CALSCALE:GREGORIAN
METHOD:PUBLISH
UID:6cdc882a-9818-47c8-9209-12709770a976
X-WR-CALDESC:
X-WR-RELCALID:b2d78fbac3c37d6c0dc42a6fa2522648
X-WR-TIMEZONE:America/Chicago
BEGIN:VTIMEZONE
TZID:America/Chicago
BEGIN:STANDARD
TZNAME:CST
DTSTART:20211107T020000
TZOFFSETFROM:-0500
TZOFFSETTO:-0600
RDATE:20221106T020000
RDATE:20231105T020000
END:STANDARD
BEGIN:DAYLIGHT
TZNAME:CDT
DTSTART:20220313T020000
TZOFFSETFROM:-0600
TZOFFSETTO:-0500
RDATE:20230312T020000
RDATE:20240310T020000
END:DAYLIGHT
END:VTIMEZONE
BEGIN:VEVENT
UID:3f64b4db-38ef-469f-a242-08b4753142f6
DTSTAMP:20260424T233240Z
DESCRIPTION:
DTSTART;TZID=America/Chicago:20220921T100000
DTEND;TZID=America/Chicago:20220921T120000
LOCATION:
SUMMARY:Community Food Fair
END:VEVENT
END:VCALENDAR
