BEGIN:VCALENDAR
VERSION:2.0
PRODID:-//crossroadsatparkplace.org//NONSGML kigkonsult.se iCalcreator 2.30
 .10//
CALSCALE:GREGORIAN
METHOD:PUBLISH
UID:4cdef9cc-9a9a-49b3-b813-b4756f8f49fe
X-WR-CALDESC:
X-WR-RELCALID:418c62098b5d63b2b60a04a743e8dbe3
X-WR-TIMEZONE:America/Chicago
BEGIN:VTIMEZONE
TZID:America/Chicago
BEGIN:STANDARD
TZNAME:CST
DTSTART:20211107T020000
TZOFFSETFROM:-0500
TZOFFSETTO:-0600
RDATE:20221106T020000
RDATE:20231105T020000
END:STANDARD
BEGIN:DAYLIGHT
TZNAME:CDT
DTSTART:20220313T020000
TZOFFSETFROM:-0600
TZOFFSETTO:-0500
RDATE:20230312T020000
RDATE:20240310T020000
END:DAYLIGHT
END:VTIMEZONE
BEGIN:VEVENT
UID:12f34763-3496-49a6-8a0d-a61df7914ffb
DTSTAMP:20260424T233900Z
DESCRIPTION:
DTSTART;TZID=America/Chicago:20220928T100000
DTEND;TZID=America/Chicago:20220928T120000
LOCATION:
SUMMARY:Community Food Fair
END:VEVENT
END:VCALENDAR
