BEGIN:VCALENDAR
VERSION:2.0
PRODID:-//crossroadsatparkplace.org//NONSGML kigkonsult.se iCalcreator 2.30
 .10//
CALSCALE:GREGORIAN
METHOD:PUBLISH
UID:1e29bdcf-5dce-40d1-a814-9a0defeaea5a
X-WR-CALDESC:
X-WR-RELCALID:c105eee67d5dd9fbd02f4300fadd1f48
X-WR-TIMEZONE:America/Chicago
BEGIN:VTIMEZONE
TZID:America/Chicago
BEGIN:STANDARD
TZNAME:CST
DTSTART:20211107T020000
TZOFFSETFROM:-0500
TZOFFSETTO:-0600
RDATE:20221106T020000
RDATE:20231105T020000
END:STANDARD
BEGIN:DAYLIGHT
TZNAME:CDT
DTSTART:20220313T020000
TZOFFSETFROM:-0600
TZOFFSETTO:-0500
RDATE:20230312T020000
RDATE:20240310T020000
END:DAYLIGHT
END:VTIMEZONE
BEGIN:VEVENT
UID:cc1c3dca-6199-4f9f-b320-6c829aed0619
DTSTAMP:20260424T221818Z
DESCRIPTION:
DTSTART;TZID=America/Chicago:20221012T100000
DTEND;TZID=America/Chicago:20221012T120000
LOCATION:
SUMMARY:Community Food Fair
END:VEVENT
END:VCALENDAR
