BEGIN:VCALENDAR
VERSION:2.0
PRODID:-//crossroadsatparkplace.org//NONSGML kigkonsult.se iCalcreator 2.30
 .10//
CALSCALE:GREGORIAN
METHOD:PUBLISH
UID:cb1b9c9d-51cf-4415-83f9-c35f49e3b91b
X-WR-CALDESC:
X-WR-RELCALID:5831af1638b2f6ce19f1784bb54def93
X-WR-TIMEZONE:America/Chicago
BEGIN:VTIMEZONE
TZID:America/Chicago
BEGIN:STANDARD
TZNAME:CST
DTSTART:20211107T020000
TZOFFSETFROM:-0500
TZOFFSETTO:-0600
RDATE:20221106T020000
RDATE:20231105T020000
END:STANDARD
BEGIN:DAYLIGHT
TZNAME:CDT
DTSTART:20220313T020000
TZOFFSETFROM:-0600
TZOFFSETTO:-0500
RDATE:20230312T020000
RDATE:20240310T020000
END:DAYLIGHT
END:VTIMEZONE
BEGIN:VEVENT
UID:54e60d58-fdc6-4de1-84ed-bef214947023
DTSTAMP:20260424T221719Z
DESCRIPTION:
DTSTART;TZID=America/Chicago:20221019T100000
DTEND;TZID=America/Chicago:20221019T120000
LOCATION:
SUMMARY:Community Food Fair
END:VEVENT
END:VCALENDAR
