BEGIN:VCALENDAR
VERSION:2.0
PRODID:-//crossroadsatparkplace.org//NONSGML kigkonsult.se iCalcreator 2.30
 .10//
CALSCALE:GREGORIAN
METHOD:PUBLISH
UID:536a86fa-8df6-4a2a-bf1b-7d8855d6b5aa
X-WR-CALDESC:
X-WR-RELCALID:6af7795099816531cc594103941454e6
X-WR-TIMEZONE:America/Chicago
BEGIN:VTIMEZONE
TZID:America/Chicago
BEGIN:STANDARD
TZNAME:CST
DTSTART:20211107T020000
TZOFFSETFROM:-0500
TZOFFSETTO:-0600
RDATE:20221106T020000
RDATE:20231105T020000
END:STANDARD
BEGIN:DAYLIGHT
TZNAME:CDT
DTSTART:20220313T020000
TZOFFSETFROM:-0600
TZOFFSETTO:-0500
RDATE:20230312T020000
RDATE:20240310T020000
END:DAYLIGHT
END:VTIMEZONE
BEGIN:VEVENT
UID:fec11ced-70d3-4f33-872c-25c44606334f
DTSTAMP:20260424T221443Z
DESCRIPTION:
DTSTART;TZID=America/Chicago:20221026T100000
DTEND;TZID=America/Chicago:20221026T120000
LOCATION:
SUMMARY:Community Food Fair
END:VEVENT
END:VCALENDAR
