BEGIN:VCALENDAR
VERSION:2.0
PRODID:-//crossroadsatparkplace.org//NONSGML kigkonsult.se iCalcreator 2.30
 .10//
CALSCALE:GREGORIAN
METHOD:PUBLISH
UID:d7da33ce-bbe1-4794-91e3-97418ff31ca6
X-WR-CALDESC:
X-WR-RELCALID:f76538ba5df2982fd74d20086d9eeda5
X-WR-TIMEZONE:America/Chicago
BEGIN:VTIMEZONE
TZID:America/Chicago
BEGIN:STANDARD
TZNAME:CST
DTSTART:20211107T020000
TZOFFSETFROM:-0500
TZOFFSETTO:-0600
RDATE:20221106T020000
RDATE:20231105T020000
END:STANDARD
BEGIN:DAYLIGHT
TZNAME:CDT
DTSTART:20220313T020000
TZOFFSETFROM:-0600
TZOFFSETTO:-0500
RDATE:20230312T020000
RDATE:20240310T020000
END:DAYLIGHT
END:VTIMEZONE
BEGIN:VEVENT
UID:7c906432-1b19-4fc9-8b00-69018a54407b
DTSTAMP:20260424T205151Z
DESCRIPTION:
DTSTART;TZID=America/Chicago:20221102T100000
DTEND;TZID=America/Chicago:20221102T120000
LOCATION:
SUMMARY:Community Food Fair
END:VEVENT
END:VCALENDAR
