BEGIN:VCALENDAR
VERSION:2.0
PRODID:-//crossroadsatparkplace.org//NONSGML kigkonsult.se iCalcreator 2.30
 .10//
CALSCALE:GREGORIAN
METHOD:PUBLISH
UID:681c0b67-a45c-43ac-bf9a-2cf33ded8b64
X-WR-CALDESC:
X-WR-RELCALID:fb737702ceea89d02c04ef33c5b11e17
X-WR-TIMEZONE:America/Chicago
BEGIN:VTIMEZONE
TZID:America/Chicago
BEGIN:STANDARD
TZNAME:CST
DTSTART:20221106T020000
TZOFFSETFROM:-0500
TZOFFSETTO:-0600
RDATE:20231105T020000
END:STANDARD
BEGIN:DAYLIGHT
TZNAME:CDT
DTSTART:20220313T020000
TZOFFSETFROM:-0600
TZOFFSETTO:-0500
RDATE:20230312T020000
RDATE:20240310T020000
END:DAYLIGHT
END:VTIMEZONE
BEGIN:VEVENT
UID:f0f8b589-5a28-4e18-abee-50f886795c2c
DTSTAMP:20260424T205854Z
DESCRIPTION:
DTSTART;TZID=America/Chicago:20221130T100000
DTEND;TZID=America/Chicago:20221130T120000
LOCATION:
SUMMARY:Community Food Fair
END:VEVENT
END:VCALENDAR
