BEGIN:VCALENDAR
VERSION:2.0
PRODID:-//crossroadsatparkplace.org//NONSGML kigkonsult.se iCalcreator 2.30
 .10//
CALSCALE:GREGORIAN
METHOD:PUBLISH
UID:589ced86-b5a5-4998-b243-48911a8db148
X-WR-CALDESC:
X-WR-RELCALID:fff40ca193d2a8b93544f9cd69092fe6
X-WR-TIMEZONE:America/Chicago
BEGIN:VTIMEZONE
TZID:America/Chicago
BEGIN:STANDARD
TZNAME:CST
DTSTART:20221106T020000
TZOFFSETFROM:-0500
TZOFFSETTO:-0600
RDATE:20231105T020000
END:STANDARD
BEGIN:DAYLIGHT
TZNAME:CDT
DTSTART:20220313T020000
TZOFFSETFROM:-0600
TZOFFSETTO:-0500
RDATE:20230312T020000
RDATE:20240310T020000
END:DAYLIGHT
END:VTIMEZONE
BEGIN:VEVENT
UID:f67ee655-3b8b-4763-9c71-33bee29219be
DTSTAMP:20260424T192601Z
DESCRIPTION:
DTSTART;TZID=America/Chicago:20221221T100000
DTEND;TZID=America/Chicago:20221221T120000
LOCATION:
SUMMARY:Community Food Fair
END:VEVENT
END:VCALENDAR
