BEGIN:VCALENDAR
VERSION:2.0
PRODID:-//crossroadsatparkplace.org//NONSGML kigkonsult.se iCalcreator 2.30
 .10//
CALSCALE:GREGORIAN
METHOD:PUBLISH
UID:e1d1cc4c-e7b9-4766-aae4-3fef0ede774f
X-WR-CALDESC:
X-WR-RELCALID:99fdd7ab7259b8fdcbd3ba29bcb65b0b
X-WR-TIMEZONE:America/Chicago
BEGIN:VTIMEZONE
TZID:America/Chicago
BEGIN:STANDARD
TZNAME:CST
DTSTART:20221106T020000
TZOFFSETFROM:-0500
TZOFFSETTO:-0600
RDATE:20231105T020000
END:STANDARD
BEGIN:DAYLIGHT
TZNAME:CDT
DTSTART:20220313T020000
TZOFFSETFROM:-0600
TZOFFSETTO:-0500
RDATE:20230312T020000
RDATE:20240310T020000
END:DAYLIGHT
END:VTIMEZONE
BEGIN:VEVENT
UID:5b2b8e14-dc4a-4745-b9b6-8dbe1c140939
DTSTAMP:20260424T193249Z
DESCRIPTION:
DTSTART;TZID=America/Chicago:20221222T070000
DTEND;TZID=America/Chicago:20221222T120000
LOCATION:
SUMMARY:Full Service in Operation
END:VEVENT
END:VCALENDAR
