BEGIN:VCALENDAR
VERSION:2.0
PRODID:-//crossroadsatparkplace.org//NONSGML kigkonsult.se iCalcreator 2.30
 .10//
CALSCALE:GREGORIAN
METHOD:PUBLISH
UID:f7aa3488-2ba4-43a4-a7c1-92def1a57ffa
X-WR-CALDESC:
X-WR-RELCALID:12e4a9d1662ea83ec4e27ea2c9307913
X-WR-TIMEZONE:America/Chicago
BEGIN:VTIMEZONE
TZID:America/Chicago
BEGIN:STANDARD
TZNAME:CST
DTSTART:20221106T020000
TZOFFSETFROM:-0500
TZOFFSETTO:-0600
RDATE:20231105T020000
END:STANDARD
BEGIN:DAYLIGHT
TZNAME:CDT
DTSTART:20220313T020000
TZOFFSETFROM:-0600
TZOFFSETTO:-0500
RDATE:20230312T020000
RDATE:20240310T020000
END:DAYLIGHT
END:VTIMEZONE
BEGIN:VEVENT
UID:8e935c82-703e-4f1c-9bba-46e3d7d2a897
DTSTAMP:20260424T180514Z
DESCRIPTION:
DTSTART;TZID=America/Chicago:20230104T100000
DTEND;TZID=America/Chicago:20230104T120000
LOCATION:
SUMMARY:Community Food Fair
END:VEVENT
END:VCALENDAR
