BEGIN:VCALENDAR
VERSION:2.0
PRODID:-//crossroadsatparkplace.org//NONSGML kigkonsult.se iCalcreator 2.30
 .10//
CALSCALE:GREGORIAN
METHOD:PUBLISH
UID:c14bb63a-2bf6-44d3-a2b7-337aa90d476a
X-WR-CALDESC:
X-WR-RELCALID:e322a6573d108c3590389a5d22108ad1
X-WR-TIMEZONE:America/Chicago
BEGIN:VTIMEZONE
TZID:America/Chicago
BEGIN:STANDARD
TZNAME:CST
DTSTART:20221106T020000
TZOFFSETFROM:-0500
TZOFFSETTO:-0600
RDATE:20231105T020000
END:STANDARD
BEGIN:DAYLIGHT
TZNAME:CDT
DTSTART:20220313T020000
TZOFFSETFROM:-0600
TZOFFSETTO:-0500
RDATE:20230312T020000
RDATE:20240310T020000
END:DAYLIGHT
END:VTIMEZONE
BEGIN:VEVENT
UID:715e4e4e-13d2-49ee-989c-45db685d14f7
DTSTAMP:20260424T181248Z
DESCRIPTION:
DTSTART;TZID=America/Chicago:20230111T100000
DTEND;TZID=America/Chicago:20230111T120000
LOCATION:
SUMMARY:Community Food Fair
END:VEVENT
END:VCALENDAR
