BEGIN:VCALENDAR
VERSION:2.0
PRODID:-//crossroadsatparkplace.org//NONSGML kigkonsult.se iCalcreator 2.30
 .10//
CALSCALE:GREGORIAN
METHOD:PUBLISH
UID:442316a3-7b1e-4a8a-9028-6239d1e2f9f6
X-WR-CALDESC:
X-WR-RELCALID:0be005df6bbdac24101c4538983a32e1
X-WR-TIMEZONE:America/Chicago
BEGIN:VTIMEZONE
TZID:America/Chicago
BEGIN:STANDARD
TZNAME:CST
DTSTART:20221106T020000
TZOFFSETFROM:-0500
TZOFFSETTO:-0600
RDATE:20231105T020000
END:STANDARD
BEGIN:DAYLIGHT
TZNAME:CDT
DTSTART:20220313T020000
TZOFFSETFROM:-0600
TZOFFSETTO:-0500
RDATE:20230312T020000
RDATE:20240310T020000
END:DAYLIGHT
END:VTIMEZONE
BEGIN:VEVENT
UID:9d1e2cf8-2a8b-4b26-ac09-88f38cafabb0
DTSTAMP:20260424T164155Z
DESCRIPTION:
DTSTART;TZID=America/Chicago:20230201T100000
DTEND;TZID=America/Chicago:20230201T120000
LOCATION:
SUMMARY:Community Food Fair
END:VEVENT
END:VCALENDAR
