BEGIN:VCALENDAR
VERSION:2.0
PRODID:-//crossroadsatparkplace.org//NONSGML kigkonsult.se iCalcreator 2.30
 .10//
CALSCALE:GREGORIAN
METHOD:PUBLISH
UID:f331fdc8-3b51-4e43-a78b-400ac779833c
X-WR-CALDESC:
X-WR-RELCALID:01a2ba42018ddce2ffd70b343fe3debc
X-WR-TIMEZONE:America/Chicago
BEGIN:VTIMEZONE
TZID:America/Chicago
BEGIN:STANDARD
TZNAME:CST
DTSTART:20221106T020000
TZOFFSETFROM:-0500
TZOFFSETTO:-0600
RDATE:20231105T020000
END:STANDARD
BEGIN:DAYLIGHT
TZNAME:CDT
DTSTART:20220313T020000
TZOFFSETFROM:-0600
TZOFFSETTO:-0500
RDATE:20230312T020000
RDATE:20240310T020000
END:DAYLIGHT
END:VTIMEZONE
BEGIN:VEVENT
UID:e0a053d5-897b-453a-a3d7-dba5d62d53fb
DTSTAMP:20260424T164513Z
DESCRIPTION:
DTSTART;TZID=America/Chicago:20230208T100000
DTEND;TZID=America/Chicago:20230208T120000
LOCATION:
SUMMARY:Community Food Fair
END:VEVENT
END:VCALENDAR
