BEGIN:VCALENDAR
VERSION:2.0
PRODID:-//crossroadsatparkplace.org//NONSGML kigkonsult.se iCalcreator 2.30
 .10//
CALSCALE:GREGORIAN
METHOD:PUBLISH
UID:8a8e3e9c-ae9a-4e51-8339-81905db8eaf8
X-WR-CALDESC:
X-WR-RELCALID:11c42d7afa32a07dbe22583e0904a9a2
X-WR-TIMEZONE:America/Chicago
BEGIN:VTIMEZONE
TZID:America/Chicago
BEGIN:STANDARD
TZNAME:CST
DTSTART:20221106T020000
TZOFFSETFROM:-0500
TZOFFSETTO:-0600
RDATE:20231105T020000
END:STANDARD
BEGIN:DAYLIGHT
TZNAME:CDT
DTSTART:20220313T020000
TZOFFSETFROM:-0600
TZOFFSETTO:-0500
RDATE:20230312T020000
RDATE:20240310T020000
END:DAYLIGHT
END:VTIMEZONE
BEGIN:VEVENT
UID:5310e8f5-b095-46bd-bc5b-4d075314030a
DTSTAMP:20260424T164800Z
DESCRIPTION:
DTSTART;TZID=America/Chicago:20230215T100000
DTEND;TZID=America/Chicago:20230215T120000
LOCATION:
SUMMARY:Community Food Fair
END:VEVENT
END:VCALENDAR
