BEGIN:VCALENDAR
VERSION:2.0
PRODID:-//crossroadsatparkplace.org//NONSGML kigkonsult.se iCalcreator 2.30
 .10//
CALSCALE:GREGORIAN
METHOD:PUBLISH
UID:93feb955-8129-4012-9ec7-bd7f4a861e1a
X-WR-CALDESC:
X-WR-RELCALID:ae2bd1df6eb97b9608c4c74c68216974
X-WR-TIMEZONE:America/Chicago
BEGIN:VTIMEZONE
TZID:America/Chicago
BEGIN:STANDARD
TZNAME:CST
DTSTART:20221106T020000
TZOFFSETFROM:-0500
TZOFFSETTO:-0600
RDATE:20231105T020000
END:STANDARD
BEGIN:DAYLIGHT
TZNAME:CDT
DTSTART:20220313T020000
TZOFFSETFROM:-0600
TZOFFSETTO:-0500
RDATE:20230312T020000
RDATE:20240310T020000
END:DAYLIGHT
END:VTIMEZONE
BEGIN:VEVENT
UID:c8b6f47d-5cef-4961-9e10-d56314102802
DTSTAMP:20260424T164800Z
DESCRIPTION:
DTSTART;TZID=America/Chicago:20230222T100000
DTEND;TZID=America/Chicago:20230222T120000
LOCATION:
SUMMARY:Community Food Fair
END:VEVENT
END:VCALENDAR
