BEGIN:VCALENDAR
VERSION:2.0
PRODID:-//crossroadsatparkplace.org//NONSGML kigkonsult.se iCalcreator 2.30
 .10//
CALSCALE:GREGORIAN
METHOD:PUBLISH
UID:22b8934e-dd08-4a43-a2b8-c9c57b50910f
X-WR-CALDESC:
X-WR-RELCALID:036264bc35e0da48646bb6b518b9f449
X-WR-TIMEZONE:America/Chicago
BEGIN:VTIMEZONE
TZID:America/Chicago
BEGIN:STANDARD
TZNAME:CST
DTSTART:20221106T020000
TZOFFSETFROM:-0500
TZOFFSETTO:-0600
RDATE:20231105T020000
END:STANDARD
BEGIN:DAYLIGHT
TZNAME:CDT
DTSTART:20220313T020000
TZOFFSETFROM:-0600
TZOFFSETTO:-0500
RDATE:20230312T020000
RDATE:20240310T020000
END:DAYLIGHT
END:VTIMEZONE
BEGIN:VEVENT
UID:97fa3bae-fe42-4890-8d03-73d73b861c13
DTSTAMP:20260424T152025Z
DESCRIPTION:
DTSTART;TZID=America/Chicago:20230301T100000
DTEND;TZID=America/Chicago:20230301T120000
LOCATION:
SUMMARY:Community Food Fair
END:VEVENT
END:VCALENDAR
