BEGIN:VCALENDAR
VERSION:2.0
PRODID:-//crossroadsatparkplace.org//NONSGML kigkonsult.se iCalcreator 2.30
 .10//
CALSCALE:GREGORIAN
METHOD:PUBLISH
UID:e2f79ee0-8f4f-46a1-bc07-e56b497348d5
X-WR-CALDESC:
X-WR-RELCALID:69c8fd3b6e329c7903a963ac06875e74
X-WR-TIMEZONE:America/Chicago
BEGIN:VTIMEZONE
TZID:America/Chicago
BEGIN:STANDARD
TZNAME:CST
DTSTART:20221106T020000
TZOFFSETFROM:-0500
TZOFFSETTO:-0600
RDATE:20231105T020000
END:STANDARD
BEGIN:DAYLIGHT
TZNAME:CDT
DTSTART:20220313T020000
TZOFFSETFROM:-0600
TZOFFSETTO:-0500
RDATE:20230312T020000
RDATE:20240310T020000
END:DAYLIGHT
END:VTIMEZONE
BEGIN:VEVENT
UID:46f8f802-2113-4484-9737-e27b484322f3
DTSTAMP:20260424T145835Z
DESCRIPTION:
DTSTART;TZID=America/Chicago:20230308T100000
DTEND;TZID=America/Chicago:20230308T120000
LOCATION:
SUMMARY:Community Food Fair
END:VEVENT
END:VCALENDAR
