BEGIN:VCALENDAR
VERSION:2.0
PRODID:-//crossroadsatparkplace.org//NONSGML kigkonsult.se iCalcreator 2.30
 .10//
CALSCALE:GREGORIAN
METHOD:PUBLISH
UID:ed8c8c89-c1dd-4ee8-9dbf-6ab235cb9efa
X-WR-CALDESC:
X-WR-RELCALID:f4d845a9f3a991a6a3c92c806c79463d
X-WR-TIMEZONE:America/Chicago
BEGIN:VTIMEZONE
TZID:America/Chicago
BEGIN:STANDARD
TZNAME:CST
DTSTART:20221106T020000
TZOFFSETFROM:-0500
TZOFFSETTO:-0600
RDATE:20231105T020000
END:STANDARD
BEGIN:DAYLIGHT
TZNAME:CDT
DTSTART:20230312T020000
TZOFFSETFROM:-0600
TZOFFSETTO:-0500
RDATE:20240310T020000
END:DAYLIGHT
END:VTIMEZONE
BEGIN:VEVENT
UID:9b07b42b-e1fc-44f1-b316-cdcc08d14f69
DTSTAMP:20260424T131933Z
DESCRIPTION:
DTSTART;TZID=America/Chicago:20230412T100000
DTEND;TZID=America/Chicago:20230412T120000
LOCATION:
SUMMARY:Community Food Fair
END:VEVENT
END:VCALENDAR
