BEGIN:VCALENDAR
VERSION:2.0
PRODID:-//crossroadsatparkplace.org//NONSGML kigkonsult.se iCalcreator 2.30
 .10//
CALSCALE:GREGORIAN
METHOD:PUBLISH
UID:0ef808c5-eaf0-494d-b6d5-ac75cd373bcd
X-WR-CALDESC:
X-WR-RELCALID:55c8f455b68671aee9f17b5535ae9889
X-WR-TIMEZONE:America/Chicago
BEGIN:VTIMEZONE
TZID:America/Chicago
BEGIN:STANDARD
TZNAME:CST
DTSTART:20221106T020000
TZOFFSETFROM:-0500
TZOFFSETTO:-0600
RDATE:20231105T020000
END:STANDARD
BEGIN:DAYLIGHT
TZNAME:CDT
DTSTART:20230312T020000
TZOFFSETFROM:-0600
TZOFFSETTO:-0500
RDATE:20240310T020000
END:DAYLIGHT
END:VTIMEZONE
BEGIN:VEVENT
UID:11cca428-c847-4e06-831c-a33ee160ec2a
DTSTAMP:20260424T132435Z
DESCRIPTION:
DTSTART;TZID=America/Chicago:20230419T100000
DTEND;TZID=America/Chicago:20230419T120000
LOCATION:
SUMMARY:Community Food Fair
END:VEVENT
END:VCALENDAR
