BEGIN:VCALENDAR
VERSION:2.0
PRODID:-//crossroadsatparkplace.org//NONSGML kigkonsult.se iCalcreator 2.30
 .10//
CALSCALE:GREGORIAN
METHOD:PUBLISH
UID:dbfaa206-9da1-4268-b598-4ee014b74d18
X-WR-CALDESC:
X-WR-RELCALID:fcd8ce309104d1faaac2db3ca3c11782
X-WR-TIMEZONE:America/Chicago
BEGIN:VTIMEZONE
TZID:America/Chicago
BEGIN:STANDARD
TZNAME:CST
DTSTART:20221106T020000
TZOFFSETFROM:-0500
TZOFFSETTO:-0600
RDATE:20231105T020000
END:STANDARD
BEGIN:DAYLIGHT
TZNAME:CDT
DTSTART:20230312T020000
TZOFFSETFROM:-0600
TZOFFSETTO:-0500
RDATE:20240310T020000
END:DAYLIGHT
END:VTIMEZONE
BEGIN:VEVENT
UID:470a4def-3529-4b81-91f7-0e92f7b1f2bb
DTSTAMP:20260424T132736Z
DESCRIPTION:
DTSTART;TZID=America/Chicago:20230426T100000
DTEND;TZID=America/Chicago:20230426T120000
LOCATION:
SUMMARY:Community Food Fair
END:VEVENT
END:VCALENDAR
