BEGIN:VCALENDAR
VERSION:2.0
PRODID:-//crossroadsatparkplace.org//NONSGML kigkonsult.se iCalcreator 2.30
 .10//
CALSCALE:GREGORIAN
METHOD:PUBLISH
UID:751b1374-40c2-4b57-9b33-690d2f8cbbfd
X-WR-CALDESC:
X-WR-RELCALID:48be4b0c9e09cd1427b19480a3ce9c21
X-WR-TIMEZONE:America/Chicago
BEGIN:VTIMEZONE
TZID:America/Chicago
BEGIN:STANDARD
TZNAME:CST
DTSTART:20221106T020000
TZOFFSETFROM:-0500
TZOFFSETTO:-0600
RDATE:20231105T020000
END:STANDARD
BEGIN:DAYLIGHT
TZNAME:CDT
DTSTART:20230312T020000
TZOFFSETFROM:-0600
TZOFFSETTO:-0500
RDATE:20240310T020000
END:DAYLIGHT
END:VTIMEZONE
BEGIN:VEVENT
UID:3e94bf77-adc0-47af-ad24-f243f6dcbfd7
DTSTAMP:20260424T133129Z
DESCRIPTION:
DTSTART;TZID=America/Chicago:20230427T070000
DTEND;TZID=America/Chicago:20230427T120000
LOCATION:
SUMMARY:Full Service in Operation
END:VEVENT
END:VCALENDAR
