BEGIN:VCALENDAR
VERSION:2.0
PRODID:-//crossroadsatparkplace.org//NONSGML kigkonsult.se iCalcreator 2.30
 .10//
CALSCALE:GREGORIAN
METHOD:PUBLISH
UID:d45d1111-4b6a-49dc-bcac-bdb5f099b33d
X-WR-CALDESC:
X-WR-RELCALID:a0424878383cf67b8d317619b8622410
X-WR-TIMEZONE:America/Chicago
BEGIN:VTIMEZONE
TZID:America/Chicago
BEGIN:STANDARD
TZNAME:CST
DTSTART:20221106T020000
TZOFFSETFROM:-0500
TZOFFSETTO:-0600
RDATE:20231105T020000
END:STANDARD
BEGIN:DAYLIGHT
TZNAME:CDT
DTSTART:20230312T020000
TZOFFSETFROM:-0600
TZOFFSETTO:-0500
RDATE:20240310T020000
END:DAYLIGHT
END:VTIMEZONE
BEGIN:VEVENT
UID:059c6fe5-0ecb-45ef-abbf-b830f41f282e
DTSTAMP:20260424T121747Z
DESCRIPTION:
DTSTART;TZID=America/Chicago:20230503T100000
DTEND;TZID=America/Chicago:20230503T120000
LOCATION:
SUMMARY:Community Food Fair
END:VEVENT
END:VCALENDAR
