BEGIN:VCALENDAR
VERSION:2.0
PRODID:-//crossroadsatparkplace.org//NONSGML kigkonsult.se iCalcreator 2.30
 .10//
CALSCALE:GREGORIAN
METHOD:PUBLISH
UID:89ae6bc6-2b12-459c-a23a-b73fc38e9cbe
X-WR-CALDESC:
X-WR-RELCALID:6b3af27cc5c50c058aceb6fce32d99fd
X-WR-TIMEZONE:America/Chicago
BEGIN:VTIMEZONE
TZID:America/Chicago
BEGIN:STANDARD
TZNAME:CST
DTSTART:20221106T020000
TZOFFSETFROM:-0500
TZOFFSETTO:-0600
RDATE:20231105T020000
RDATE:20241103T020000
END:STANDARD
BEGIN:DAYLIGHT
TZNAME:CDT
DTSTART:20230312T020000
TZOFFSETFROM:-0600
TZOFFSETTO:-0500
RDATE:20240310T020000
END:DAYLIGHT
END:VTIMEZONE
BEGIN:VEVENT
UID:df4bd2db-b826-4686-9f59-f49e511f44f6
DTSTAMP:20260424T121900Z
DESCRIPTION:
DTSTART;TZID=America/Chicago:20230531T100000
DTEND;TZID=America/Chicago:20230531T120000
LOCATION:
SUMMARY:Community Food Fair
END:VEVENT
END:VCALENDAR
