BEGIN:VCALENDAR
VERSION:2.0
PRODID:-//crossroadsatparkplace.org//NONSGML kigkonsult.se iCalcreator 2.30
 .10//
CALSCALE:GREGORIAN
METHOD:PUBLISH
UID:b0c0cceb-9c4e-4c8d-9076-a034129fd3ee
X-WR-CALDESC:
X-WR-RELCALID:bb1ddedc14ed2ada38a4af39f9900321
X-WR-TIMEZONE:America/Chicago
BEGIN:VTIMEZONE
TZID:America/Chicago
BEGIN:STANDARD
TZNAME:CST
DTSTART:20221106T020000
TZOFFSETFROM:-0500
TZOFFSETTO:-0600
RDATE:20231105T020000
RDATE:20241103T020000
END:STANDARD
BEGIN:DAYLIGHT
TZNAME:CDT
DTSTART:20230312T020000
TZOFFSETFROM:-0600
TZOFFSETTO:-0500
RDATE:20240310T020000
END:DAYLIGHT
END:VTIMEZONE
BEGIN:VEVENT
UID:c810cf9b-e18a-4e6b-a436-2f3a8f91996f
DTSTAMP:20260424T104343Z
DESCRIPTION:
DTSTART;TZID=America/Chicago:20230607T100000
DTEND;TZID=America/Chicago:20230607T120000
LOCATION:
SUMMARY:Community Food Fair
END:VEVENT
END:VCALENDAR
