BEGIN:VCALENDAR
VERSION:2.0
PRODID:-//crossroadsatparkplace.org//NONSGML kigkonsult.se iCalcreator 2.30
 .10//
CALSCALE:GREGORIAN
METHOD:PUBLISH
UID:bc1c8690-76af-4fdb-bd41-caa6f9abc784
X-WR-CALDESC:
X-WR-RELCALID:c2a315c77e9fcea81f3e0b9933abf3c8
X-WR-TIMEZONE:America/Chicago
BEGIN:VTIMEZONE
TZID:America/Chicago
BEGIN:STANDARD
TZNAME:CST
DTSTART:20221106T020000
TZOFFSETFROM:-0500
TZOFFSETTO:-0600
RDATE:20231105T020000
RDATE:20241103T020000
END:STANDARD
BEGIN:DAYLIGHT
TZNAME:CDT
DTSTART:20230312T020000
TZOFFSETFROM:-0600
TZOFFSETTO:-0500
RDATE:20240310T020000
END:DAYLIGHT
END:VTIMEZONE
BEGIN:VEVENT
UID:367cbee4-ef51-4d61-bf3b-e7ce7acf6ce2
DTSTAMP:20260424T104047Z
DESCRIPTION:
DTSTART;TZID=America/Chicago:20230613T070000
DTEND;TZID=America/Chicago:20230613T120000
LOCATION:
SUMMARY:Full Service in Operation
END:VEVENT
END:VCALENDAR
