BEGIN:VCALENDAR
VERSION:2.0
PRODID:-//crossroadsatparkplace.org//NONSGML kigkonsult.se iCalcreator 2.30
 .10//
CALSCALE:GREGORIAN
METHOD:PUBLISH
UID:e93dcddd-e0e9-46bf-8e7c-33b2cffba205
X-WR-CALDESC:
X-WR-RELCALID:59f2288bdea3c6b3626447dd03a68a61
X-WR-TIMEZONE:America/Chicago
BEGIN:VTIMEZONE
TZID:America/Chicago
BEGIN:STANDARD
TZNAME:CST
DTSTART:20221106T020000
TZOFFSETFROM:-0500
TZOFFSETTO:-0600
RDATE:20231105T020000
RDATE:20241103T020000
END:STANDARD
BEGIN:DAYLIGHT
TZNAME:CDT
DTSTART:20230312T020000
TZOFFSETFROM:-0600
TZOFFSETTO:-0500
RDATE:20240310T020000
END:DAYLIGHT
END:VTIMEZONE
BEGIN:VEVENT
UID:63e91950-69fd-4352-a2e5-cfd50e3c1ff7
DTSTAMP:20260424T104344Z
DESCRIPTION:
DTSTART;TZID=America/Chicago:20230614T100000
DTEND;TZID=America/Chicago:20230614T120000
LOCATION:
SUMMARY:Community Food Fair
END:VEVENT
END:VCALENDAR
