BEGIN:VCALENDAR
VERSION:2.0
PRODID:-//crossroadsatparkplace.org//NONSGML kigkonsult.se iCalcreator 2.30
 .10//
CALSCALE:GREGORIAN
METHOD:PUBLISH
UID:c3bb6e57-e70c-487c-aace-ab6d02e5b093
X-WR-CALDESC:
X-WR-RELCALID:38ac7bb82e40703839204bd168db12eb
X-WR-TIMEZONE:America/Chicago
BEGIN:VTIMEZONE
TZID:America/Chicago
BEGIN:STANDARD
TZNAME:CST
DTSTART:20221106T020000
TZOFFSETFROM:-0500
TZOFFSETTO:-0600
RDATE:20231105T020000
RDATE:20241103T020000
END:STANDARD
BEGIN:DAYLIGHT
TZNAME:CDT
DTSTART:20230312T020000
TZOFFSETFROM:-0600
TZOFFSETTO:-0500
RDATE:20240310T020000
END:DAYLIGHT
END:VTIMEZONE
BEGIN:VEVENT
UID:e274ed6b-734e-4d68-b1f1-f1f953e60738
DTSTAMP:20260424T091014Z
DESCRIPTION:
DTSTART;TZID=America/Chicago:20230719T100000
DTEND;TZID=America/Chicago:20230719T120000
LOCATION:
SUMMARY:Community Food Fair
END:VEVENT
END:VCALENDAR
