BEGIN:VCALENDAR
VERSION:2.0
PRODID:-//crossroadsatparkplace.org//NONSGML kigkonsult.se iCalcreator 2.30
 .10//
CALSCALE:GREGORIAN
METHOD:PUBLISH
UID:f310296f-63c6-4f09-b332-ecea90b72e12
X-WR-CALDESC:
X-WR-RELCALID:b05551199fc3738c8b675d8e709e0c01
X-WR-TIMEZONE:America/Chicago
BEGIN:VTIMEZONE
TZID:America/Chicago
BEGIN:STANDARD
TZNAME:CST
DTSTART:20221106T020000
TZOFFSETFROM:-0500
TZOFFSETTO:-0600
RDATE:20231105T020000
RDATE:20241103T020000
END:STANDARD
BEGIN:DAYLIGHT
TZNAME:CDT
DTSTART:20230312T020000
TZOFFSETFROM:-0600
TZOFFSETTO:-0500
RDATE:20240310T020000
END:DAYLIGHT
END:VTIMEZONE
BEGIN:VEVENT
UID:05a60724-7075-40b2-ae3b-e2b7ca2ea2a2
DTSTAMP:20260424T091116Z
DESCRIPTION:
DTSTART;TZID=America/Chicago:20230726T100000
DTEND;TZID=America/Chicago:20230726T120000
LOCATION:
SUMMARY:Community Food Fair
END:VEVENT
END:VCALENDAR
