BEGIN:VCALENDAR
VERSION:2.0
PRODID:-//crossroadsatparkplace.org//NONSGML kigkonsult.se iCalcreator 2.30
 .10//
CALSCALE:GREGORIAN
METHOD:PUBLISH
UID:b0524653-51b2-497e-8704-68d95789c5c1
X-WR-CALDESC:
X-WR-RELCALID:92b72b78f808a95df27e303612359457
X-WR-TIMEZONE:America/Chicago
BEGIN:VTIMEZONE
TZID:America/Chicago
BEGIN:STANDARD
TZNAME:CST
DTSTART:20221106T020000
TZOFFSETFROM:-0500
TZOFFSETTO:-0600
RDATE:20231105T020000
RDATE:20241103T020000
END:STANDARD
BEGIN:DAYLIGHT
TZNAME:CDT
DTSTART:20230312T020000
TZOFFSETFROM:-0600
TZOFFSETTO:-0500
RDATE:20240310T020000
END:DAYLIGHT
END:VTIMEZONE
BEGIN:VEVENT
UID:4ee491ee-dea5-4204-9600-d4cb7eb4adb6
DTSTAMP:20260424T074048Z
DESCRIPTION:
DTSTART;TZID=America/Chicago:20230809T100000
DTEND;TZID=America/Chicago:20230809T120000
LOCATION:
SUMMARY:Community Food Fair
END:VEVENT
END:VCALENDAR
